BEGIN:VCALENDAR
VERSION:2.0
PRODID:-//C7S - Colégio 7 de Setembro - ECPv6.13.2.1//NONSGML v1.0//EN
CALSCALE:GREGORIAN
METHOD:PUBLISH
X-ORIGINAL-URL:https://www.c7s.com.br
X-WR-CALDESC:Eventos para C7S - Colégio 7 de Setembro
REFRESH-INTERVAL;VALUE=DURATION:PT1H
X-Robots-Tag:noindex
X-PUBLISHED-TTL:PT1H
BEGIN:VTIMEZONE
TZID:UTC
BEGIN:STANDARD
TZOFFSETFROM:+0000
TZOFFSETTO:+0000
TZNAME:UTC
DTSTART:20240101T000000
END:STANDARD
END:VTIMEZONE
BEGIN:VEVENT
DTSTART;TZID=UTC:20241028T080000
DTEND;TZID=UTC:20241101T170000
DTSTAMP:20260419T152727
CREATED:20240408T185149Z
LAST-MODIFIED:20240408T185149Z
UID:7409-1730102400-1730480400@www.c7s.com.br
SUMMARY:Avaliações Progressivas:
DESCRIPTION:2o ao 5o ano do Ensino Fundamental: História/Geografia e Leitura
URL:https://www.c7s.com.br/agenda/avaliacoes-progressivas-60/
END:VEVENT
BEGIN:VEVENT
DTSTART;VALUE=DATE:20241029
DTEND;VALUE=DATE:20241030
DTSTAMP:20260419T152727
CREATED:20240408T185224Z
LAST-MODIFIED:20240408T185224Z
UID:7411-1730160000-1730246399@www.c7s.com.br
SUMMARY:Noite de Autógrafo do Superautor
DESCRIPTION:2o e 3o ano do Ensino Fundamental
URL:https://www.c7s.com.br/agenda/noite-de-autografo-do-superautor/
END:VEVENT
BEGIN:VEVENT
DTSTART;VALUE=DATE:20241030
DTEND;VALUE=DATE:20241031
DTSTAMP:20260419T152727
CREATED:20240408T185305Z
LAST-MODIFIED:20240408T185452Z
UID:7413-1730246400-1730332799@www.c7s.com.br
SUMMARY:Avaliações Progressivas:
DESCRIPTION:6o ao 9o ano do Ensino Fundamental: Matemática
URL:https://www.c7s.com.br/agenda/avaliacoes-progressivas-61/
END:VEVENT
BEGIN:VEVENT
DTSTART;VALUE=DATE:20241030
DTEND;VALUE=DATE:20241031
DTSTAMP:20260419T152727
CREATED:20240408T185522Z
LAST-MODIFIED:20240408T185522Z
UID:7415-1730246400-1730332799@www.c7s.com.br
SUMMARY:Avaliações Progressivas:
DESCRIPTION:1o e 2o ano do Ensino Médio: Física
URL:https://www.c7s.com.br/agenda/avaliacoes-progressivas-62/
END:VEVENT
BEGIN:VEVENT
DTSTART;VALUE=DATE:20241031
DTEND;VALUE=DATE:20241101
DTSTAMP:20260419T152727
CREATED:20240408T185603Z
LAST-MODIFIED:20240408T185603Z
UID:7417-1730332800-1730419199@www.c7s.com.br
SUMMARY:Avaliações Progressivas:
DESCRIPTION:1o ano do Ensino Médio: Leitura e Filosofia\n2o ano do Ensino Médio: Leitura e Sociologia
URL:https://www.c7s.com.br/agenda/avaliacoes-progressivas-63/
END:VEVENT
BEGIN:VEVENT
DTSTART;VALUE=DATE:20241101
DTEND;VALUE=DATE:20241102
DTSTAMP:20260419T152727
CREATED:20240409T150523Z
LAST-MODIFIED:20240409T150523Z
UID:7419-1730419200-1730505599@www.c7s.com.br
SUMMARY:Avaliações Progressivas:
DESCRIPTION:6o ao 9o ano do Ensino Fundamental: Leitura
URL:https://www.c7s.com.br/agenda/avaliacoes-progressivas-64/
END:VEVENT
BEGIN:VEVENT
DTSTART;VALUE=DATE:20241102
DTEND;VALUE=DATE:20241103
DTSTAMP:20260419T152727
CREATED:20240409T150722Z
LAST-MODIFIED:20240409T150722Z
UID:7421-1730505600-1730591999@www.c7s.com.br
SUMMARY:Finados
DESCRIPTION:Feriado
URL:https://www.c7s.com.br/agenda/finados/
END:VEVENT
BEGIN:VEVENT
DTSTART;VALUE=DATE:20241104
DTEND;VALUE=DATE:20241109
DTSTAMP:20260419T152727
CREATED:20240409T150800Z
LAST-MODIFIED:20240409T150800Z
UID:7423-1730678400-1731110399@www.c7s.com.br
SUMMARY:Avaliações Progressivas:
DESCRIPTION:2o ao 5o ano do Ensino Fundamental: Matemática
URL:https://www.c7s.com.br/agenda/avaliacoes-progressivas-65/
END:VEVENT
BEGIN:VEVENT
DTSTART;VALUE=DATE:20241114
DTEND;VALUE=DATE:20241115
DTSTAMP:20260419T152727
CREATED:20240409T150827Z
LAST-MODIFIED:20240409T150827Z
UID:7425-1731542400-1731628799@www.c7s.com.br
SUMMARY:Encerramento dos diários de notas da quarta etapa de estudos
DESCRIPTION:Ensino Fundamental e Ensino Médio – 1o e 2o ano
URL:https://www.c7s.com.br/agenda/encerramento-dos-diarios-de-notas-da-quarta-etapa-de-estudos/
END:VEVENT
BEGIN:VEVENT
DTSTART;VALUE=DATE:20241114
DTEND;VALUE=DATE:20241115
DTSTAMP:20260419T152727
CREATED:20240409T150910Z
LAST-MODIFIED:20240409T150910Z
UID:7427-1731542400-1731628799@www.c7s.com.br
SUMMARY:Avaliações Progressivas:
DESCRIPTION:Questões Objetivas:\n6o ao 8o ano do Ensino Fundamental: Português
URL:https://www.c7s.com.br/agenda/avaliacoes-progressivas-66/
END:VEVENT
BEGIN:VEVENT
DTSTART;VALUE=DATE:20241115
DTEND;VALUE=DATE:20241116
DTSTAMP:20260419T152727
CREATED:20240409T150941Z
LAST-MODIFIED:20240409T150941Z
UID:7429-1731628800-1731715199@www.c7s.com.br
SUMMARY:Proclamação da República
DESCRIPTION:Feriado
URL:https://www.c7s.com.br/agenda/proclamacao-da-republica/
END:VEVENT
BEGIN:VEVENT
DTSTART;VALUE=DATE:20241118
DTEND;VALUE=DATE:20241119
DTSTAMP:20260419T152727
CREATED:20240409T151152Z
LAST-MODIFIED:20240409T151152Z
UID:7431-1731888000-1731974399@www.c7s.com.br
SUMMARY:Avaliações Progressivas
DESCRIPTION:Questões Objetivas:\n6o ao 8o ano do Ensino Fundamental: História
URL:https://www.c7s.com.br/agenda/avaliacoes-progressivas-67/
END:VEVENT
BEGIN:VEVENT
DTSTART;VALUE=DATE:20241119
DTEND;VALUE=DATE:20241120
DTSTAMP:20260419T152727
CREATED:20240409T151243Z
LAST-MODIFIED:20240409T151243Z
UID:7433-1731974400-1732060799@www.c7s.com.br
SUMMARY:Avaliações Progressivas:
DESCRIPTION:Questões Objetivas:\n6o ao 8o ano do Ensino Fundamental: Ciências
URL:https://www.c7s.com.br/agenda/avaliacoes-progressivas-68/
END:VEVENT
BEGIN:VEVENT
DTSTART;VALUE=DATE:20241121
DTEND;VALUE=DATE:20241122
DTSTAMP:20260419T152727
CREATED:20240408T184224Z
LAST-MODIFIED:20240408T184224Z
UID:7397-1732147200-1732233599@www.c7s.com.br
SUMMARY:Avaliações Progressivas:
DESCRIPTION:6o ao 8o ano do Ensino Fundamental: Ciências\n9o ano do Ensino Fundamental: Física
URL:https://www.c7s.com.br/agenda/avaliacoes-progressivas-54/
END:VEVENT
BEGIN:VEVENT
DTSTART;VALUE=DATE:20241121
DTEND;VALUE=DATE:20241122
DTSTAMP:20260419T152727
CREATED:20240409T151357Z
LAST-MODIFIED:20240409T151357Z
UID:7435-1732147200-1732233599@www.c7s.com.br
SUMMARY:Memórias Fundamentais
DESCRIPTION:Alunos do 5º ano do Ensino Fundamental – Sede: NGS
URL:https://www.c7s.com.br/agenda/memorias-fundamentais/
END:VEVENT
BEGIN:VEVENT
DTSTART;VALUE=DATE:20241121
DTEND;VALUE=DATE:20241122
DTSTAMP:20260419T152727
CREATED:20240409T151434Z
LAST-MODIFIED:20240409T151434Z
UID:7437-1732147200-1732233599@www.c7s.com.br
SUMMARY:Avaliações Progressivas
DESCRIPTION:Questões Objetivas:\n6o ao 8o ano do Ensino Fundamental: Geografia
URL:https://www.c7s.com.br/agenda/avaliacoes-progressivas-69/
END:VEVENT
BEGIN:VEVENT
DTSTART;VALUE=DATE:20241121
DTEND;VALUE=DATE:20241122
DTSTAMP:20260419T152727
CREATED:20240409T151512Z
LAST-MODIFIED:20240409T151512Z
UID:7439-1732147200-1732233599@www.c7s.com.br
SUMMARY:Avaliações Progressivas:
DESCRIPTION:9o ano do Ensino Fundamental: Simulado ENEM 2 – Linguagens e Códigos e Ciências Humanas
URL:https://www.c7s.com.br/agenda/avaliacoes-progressivas-70/
END:VEVENT
BEGIN:VEVENT
DTSTART;VALUE=DATE:20241121
DTEND;VALUE=DATE:20241122
DTSTAMP:20260419T152727
CREATED:20240409T151545Z
LAST-MODIFIED:20240409T151545Z
UID:7441-1732147200-1732233599@www.c7s.com.br
SUMMARY:Avaliações Progressivas:
DESCRIPTION:1o e 2o ano do Ensino Médio: Simulado ENEM 4 – Linguagens e Códigos e Ciências Humanas
URL:https://www.c7s.com.br/agenda/avaliacoes-progressivas-71/
END:VEVENT
BEGIN:VEVENT
DTSTART;VALUE=DATE:20241122
DTEND;VALUE=DATE:20241123
DTSTAMP:20260419T152727
CREATED:20240409T151758Z
LAST-MODIFIED:20240409T151758Z
UID:7443-1732233600-1732319999@www.c7s.com.br
SUMMARY:Memórias Fundamentais
DESCRIPTION:Alunos do 5o ano do Ensino Fundamental – Sedes: EBS/EUSÉBIO
URL:https://www.c7s.com.br/agenda/memorias-fundamentais-2/
END:VEVENT
BEGIN:VEVENT
DTSTART;VALUE=DATE:20241122
DTEND;VALUE=DATE:20241123
DTSTAMP:20260419T152727
CREATED:20240409T151832Z
LAST-MODIFIED:20240409T151915Z
UID:7445-1732233600-1732319999@www.c7s.com.br
SUMMARY:Avaliações Progressivas
DESCRIPTION:Questões Objetivas:\n6o ao 8o ano do Ensino Fundamental: Matemática
URL:https://www.c7s.com.br/agenda/avaliacoes-progressivas-72/
END:VEVENT
BEGIN:VEVENT
DTSTART;VALUE=DATE:20241122
DTEND;VALUE=DATE:20241123
DTSTAMP:20260419T152727
CREATED:20240409T151945Z
LAST-MODIFIED:20240409T152008Z
UID:7447-1732233600-1732319999@www.c7s.com.br
SUMMARY:Avaliações Progressivas:
DESCRIPTION:9o ano do Ensino Fundamental: Simulado ENEM 2 – Ciências da Natureza e Matemática
URL:https://www.c7s.com.br/agenda/avaliacoes-progressivas-73/
END:VEVENT
BEGIN:VEVENT
DTSTART;VALUE=DATE:20241122
DTEND;VALUE=DATE:20241123
DTSTAMP:20260419T152727
CREATED:20240409T152042Z
LAST-MODIFIED:20240409T152042Z
UID:7449-1732233600-1732319999@www.c7s.com.br
SUMMARY:Avaliações Progressivas:
DESCRIPTION:1o e 2o ano do Ensino Médio: Simulado ENEM 4 – Ciências da Natureza e Matemática
URL:https://www.c7s.com.br/agenda/avaliacoes-progressivas-74/
END:VEVENT
BEGIN:VEVENT
DTSTART;VALUE=DATE:20241122
DTEND;VALUE=DATE:20241123
DTSTAMP:20260419T152727
CREATED:20240409T152407Z
LAST-MODIFIED:20240409T152407Z
UID:7451-1732233600-1732319999@www.c7s.com.br
SUMMARY:Final da quarta etapa de estudos para o Ensino Fundamental e o Ensino Médio
DESCRIPTION:1o e 2o ano
URL:https://www.c7s.com.br/agenda/final-da-quarta-etapa-de-estudos-para-o-ensino-fundamental-e-o-ensino-medio/
END:VEVENT
BEGIN:VEVENT
DTSTART;VALUE=DATE:20241122
DTEND;VALUE=DATE:20241123
DTSTAMP:20260419T152727
CREATED:20240409T152431Z
LAST-MODIFIED:20240409T152431Z
UID:7453-1732233600-1732319999@www.c7s.com.br
SUMMARY:Encerramento do ano letivo
DESCRIPTION:
URL:https://www.c7s.com.br/agenda/encerramento-do-ano-letivo/
END:VEVENT
BEGIN:VEVENT
DTSTART;VALUE=DATE:20241127
DTEND;VALUE=DATE:20241128
DTSTAMP:20260419T152727
CREATED:20240409T152524Z
LAST-MODIFIED:20240409T152524Z
UID:7455-1732665600-1732751999@www.c7s.com.br
SUMMARY:Entrega do boletim de notas relativo à quarta etapa de estudos
DESCRIPTION:Ensino Fundamental e Ensino Médio (1o e 2o ano)
URL:https://www.c7s.com.br/agenda/entrega-do-boletim-de-notas-relativo-a-quarta-etapa-de-estudos/
END:VEVENT
BEGIN:VEVENT
DTSTART;VALUE=DATE:20241128
DTEND;VALUE=DATE:20241129
DTSTAMP:20260419T152727
CREATED:20240409T152622Z
LAST-MODIFIED:20240409T152656Z
UID:7457-1732752000-1732838399@www.c7s.com.br
SUMMARY:Avaliações Finais:
DESCRIPTION:2o ao 5o ano do Ensino Fundamental: Língua Portuguesa \n6o ao 9o ano do Ensino Fundamental: Português e Redação \n1o e 2o ano do Ensino Médio: Gramática\, Literatura e Redação
URL:https://www.c7s.com.br/agenda/avaliacoes-finais/
END:VEVENT
BEGIN:VEVENT
DTSTART;VALUE=DATE:20241129
DTEND;VALUE=DATE:20241130
DTSTAMP:20260419T152727
CREATED:20240409T152809Z
LAST-MODIFIED:20240409T152809Z
UID:7461-1732838400-1732924799@www.c7s.com.br
SUMMARY:Avaliações Finais
DESCRIPTION:1o e 2o ano do Ensino Médio: Gramática\, Literatura e Redação \n2o ao 5o ano do Ensino Fundamental: Ciências e Redação \n6o ao 8o ano do Ensino Fundamental: História \n9o ano: Química e Biologia \n1o e 2o ano do Ensino Médio: Matemática
URL:https://www.c7s.com.br/agenda/avaliacoes-finais-2/
END:VEVENT
BEGIN:VEVENT
DTSTART;VALUE=DATE:20241202
DTEND;VALUE=DATE:20241203
DTSTAMP:20260419T152727
CREATED:20240409T165112Z
LAST-MODIFIED:20240409T165112Z
UID:7463-1733097600-1733183999@www.c7s.com.br
SUMMARY:Avaliações Finais:
DESCRIPTION:2o ao 5o ano do Ensino Fundamental: História/Geografia e Inglês \n6o ao 8o ano do Ensino Fundamental: Ciências\n9o ano: Física \n1o ano do Ensino Médio: História\, Geografia e Filosofia\n2o ano do Ensino Médio: História\, Geografia e Sociologia
URL:https://www.c7s.com.br/agenda/avaliacoes-finais-3/
END:VEVENT
BEGIN:VEVENT
DTSTART;VALUE=DATE:20241203
DTEND;VALUE=DATE:20241204
DTSTAMP:20260419T152727
CREATED:20240409T165335Z
LAST-MODIFIED:20240409T165335Z
UID:7465-1733184000-1733270399@www.c7s.com.br
SUMMARY:Avaliações Finais:
DESCRIPTION:2o ao 5o ano do Ensino Fundamental: Matemática \n6o ao 8o ano do Ensino Fundamental: Geografia\n9o ano do Ensino Fundamental: Geografia e História \n1o e 2o ano do Ensino Médio: Química e Biologia
URL:https://www.c7s.com.br/agenda/avaliacoes-finais-4/
END:VEVENT
BEGIN:VEVENT
DTSTART;VALUE=DATE:20241204
DTEND;VALUE=DATE:20241205
DTSTAMP:20260419T152727
CREATED:20240409T165450Z
LAST-MODIFIED:20240409T165450Z
UID:7467-1733270400-1733356799@www.c7s.com.br
SUMMARY:Avaliações Finais:
DESCRIPTION:6o ao 9o ano do Ensino Fundamental: Matemática \n1o e 2o ano do Ensino Médio: Física
URL:https://www.c7s.com.br/agenda/avaliacoes-finais-5/
END:VEVENT
END:VCALENDAR