BEGIN:VCALENDAR
VERSION:2.0
PRODID:-//C7S - Colégio 7 de Setembro - ECPv6.13.2.1//NONSGML v1.0//EN
CALSCALE:GREGORIAN
METHOD:PUBLISH
X-WR-CALNAME:C7S - Colégio 7 de Setembro
X-ORIGINAL-URL:https://www.c7s.com.br
X-WR-CALDESC:Eventos para C7S - Colégio 7 de Setembro
REFRESH-INTERVAL;VALUE=DURATION:PT1H
X-Robots-Tag:noindex
X-PUBLISHED-TTL:PT1H
BEGIN:VTIMEZONE
TZID:UTC
BEGIN:STANDARD
TZOFFSETFROM:+0000
TZOFFSETTO:+0000
TZNAME:UTC
DTSTART:20240101T000000
END:STANDARD
END:VTIMEZONE
BEGIN:VEVENT
DTSTART;TZID=UTC:20241209T080000
DTEND;TZID=UTC:20241221T170000
DTSTAMP:20260419T152314
CREATED:20240409T165721Z
LAST-MODIFIED:20240409T165721Z
UID:7471-1733731200-1734800400@www.c7s.com.br
SUMMARY:Estudos de Recuperação para os alunos do Ensino Fundamental e Ensino Médio(1o e 2o ano)
DESCRIPTION:
URL:https://www.c7s.com.br/agenda/estudos-de-recuperacao-para-os-alunos-do-ensino-fundamental-e-ensino-medio1o-e-2o-ano/
END:VEVENT
BEGIN:VEVENT
DTSTART;VALUE=DATE:20241225
DTEND;VALUE=DATE:20241226
DTSTAMP:20260419T152314
CREATED:20240409T165744Z
LAST-MODIFIED:20240409T165744Z
UID:7473-1735084800-1735171199@www.c7s.com.br
SUMMARY:Natal
DESCRIPTION:
URL:https://www.c7s.com.br/agenda/natal/
END:VEVENT
END:VCALENDAR