BEGIN:VCALENDAR
VERSION:2.0
PRODID:-//C7S - Colégio 7 de Setembro - ECPv6.13.2.1//NONSGML v1.0//EN
CALSCALE:GREGORIAN
METHOD:PUBLISH
X-ORIGINAL-URL:https://www.c7s.com.br
X-WR-CALDESC:Eventos para C7S - Colégio 7 de Setembro
REFRESH-INTERVAL;VALUE=DURATION:PT1H
X-Robots-Tag:noindex
X-PUBLISHED-TTL:PT1H
BEGIN:VTIMEZONE
TZID:UTC
BEGIN:STANDARD
TZOFFSETFROM:+0000
TZOFFSETTO:+0000
TZNAME:UTC
DTSTART:20240101T000000
END:STANDARD
END:VTIMEZONE
BEGIN:VEVENT
DTSTART;VALUE=DATE:20241114
DTEND;VALUE=DATE:20241115
DTSTAMP:20260419T123755
CREATED:20240409T150827Z
LAST-MODIFIED:20240409T150827Z
UID:7425-1731542400-1731628799@www.c7s.com.br
SUMMARY:Encerramento dos diários de notas da quarta etapa de estudos
DESCRIPTION:Ensino Fundamental e Ensino Médio – 1o e 2o ano
URL:https://www.c7s.com.br/agenda/encerramento-dos-diarios-de-notas-da-quarta-etapa-de-estudos/
END:VEVENT
BEGIN:VEVENT
DTSTART;VALUE=DATE:20241114
DTEND;VALUE=DATE:20241115
DTSTAMP:20260419T123755
CREATED:20240409T150910Z
LAST-MODIFIED:20240409T150910Z
UID:7427-1731542400-1731628799@www.c7s.com.br
SUMMARY:Avaliações Progressivas:
DESCRIPTION:Questões Objetivas:\n6o ao 8o ano do Ensino Fundamental: Português
URL:https://www.c7s.com.br/agenda/avaliacoes-progressivas-66/
END:VEVENT
END:VCALENDAR